BEGIN:VCALENDAR
VERSION:2.0
CALSCALE:GREGORIAN
PRODID:-//Diputació de Barcelona//DibaCMS//EN
BEGIN:VEVENT
UID:3359
DTSTAMP:20260420T093850
DTSTART:20230422T160000
DTEND:20230422T170000
SUMMARY:VIART - Taller infantil: drac de Sant Jordi (A)
LOCATION:
METHOD:PUBLISH
X-WR-CALNAME:st.llorensh@ajhortons.cat
X-WR-TIMEZONE:Europe/Madrid
DESCRIPTION:Places limitades!

URI:https://www.ajhortons.cat/temes/cultura/viart-2023/agenda-viart-2023/agenda-juvenil--infantil-viart-2023/viart-taller-infantil-drac-de-sant-jordi-a.html
CLASS:PUBLIC
END:VEVENT
END:VCALENDAR
