BEGIN:VCALENDAR
VERSION:2.0
CALSCALE:GREGORIAN
PRODID:-//Diputació de Barcelona//DibaCMS//EN
BEGIN:VEVENT
UID:3427
DTSTAMP:20260420T100417
DTSTART:20230517T090000
DTEND:20230517T140000
SUMMARY:Mercat setmanal
LOCATION:Plaça Referèndum U d'Octubre 
METHOD:PUBLISH
X-WR-CALNAME:st.llorensh@ajhortons.cat
X-WR-TIMEZONE:Europe/Madrid
DESCRIPTION:Dimecres al matí

URI:https://www.ajhortons.cat/actualitat/agenda/mercat-setmanal.html
CLASS:PUBLIC
END:VEVENT
END:VCALENDAR
