BEGIN:VCALENDAR
VERSION:2.0
CALSCALE:GREGORIAN
PRODID:-//Diputació de Barcelona//DibaCMS//EN
BEGIN:VEVENT
UID:3438
DTSTAMP:20260420T093712
DTSTART:20230514T131500
DTEND:20230514T150000
SUMMARY:Concert de la Coral Primavera
LOCATION:
METHOD:PUBLISH
X-WR-CALNAME:st.llorensh@ajhortons.cat
X-WR-TIMEZONE:Europe/Madrid
DESCRIPTION:
URI:https://www.ajhortons.cat/actualitat/agenda/concert-de-la-coral-primavera.html
CLASS:PUBLIC
END:VEVENT
END:VCALENDAR
