BEGIN:VCALENDAR
VERSION:2.0
CALSCALE:GREGORIAN
PRODID:-//Diputació de Barcelona//DibaCMS//EN
BEGIN:VEVENT
UID:3446
DTSTAMP:20260420T111936
DTSTART:20230604T143000
DTEND:20230604T180000
SUMMARY:Paella popular a Sant Joan Samora
LOCATION:
METHOD:PUBLISH
X-WR-CALNAME:st.llorensh@ajhortons.cat
X-WR-TIMEZONE:Europe/Madrid
DESCRIPTION:
URI:https://www.ajhortons.cat/actualitat/agenda/paella-popular-a-sant-joan-samora.html
CLASS:PUBLIC
END:VEVENT
END:VCALENDAR
