BEGIN:VCALENDAR
VERSION:2.0
CALSCALE:GREGORIAN
PRODID:-//Diputació de Barcelona//DibaCMS//EN
BEGIN:VEVENT
UID:3457
DTSTAMP:20260420T092939
DTSTART:20230617T180000
DTEND:20230617T220000
SUMMARY:XVI Aplec Sardanista Sant LLorenç d'Hortons
LOCATION:Plaça del Referèndum U d'Octubre  
METHOD:PUBLISH
X-WR-CALNAME:st.llorensh@ajhortons.cat
X-WR-TIMEZONE:Europe/Madrid
DESCRIPTION:Reserva sopar al 696406359

URI:https://www.ajhortons.cat/actualitat/agenda/xvi-aplec-sardanista-sant-llorenc-dhortons.html
CLASS:PUBLIC
END:VEVENT
END:VCALENDAR
