BEGIN:VCALENDAR
VERSION:2.0
CALSCALE:GREGORIAN
PRODID:-//Diputació de Barcelona//DibaCMS//EN
BEGIN:VEVENT
UID:3462
DTSTAMP:20260420T093530
DTSTART:20230611T090000
DTEND:20230611T130000
SUMMARY:Festa dels 4 Tombs al Torrentfondo
LOCATION:
METHOD:PUBLISH
X-WR-CALNAME:st.llorensh@ajhortons.cat
X-WR-TIMEZONE:Europe/Madrid
DESCRIPTION:
URI:https://www.ajhortons.cat/actualitat/agenda/3462-festa-dels-4-tombs-al-torrentfondo.html
CLASS:PUBLIC
END:VEVENT
END:VCALENDAR
