BEGIN:VCALENDAR
VERSION:2.0
CALSCALE:GREGORIAN
PRODID:-//Diputació de Barcelona//DibaCMS//EN
BEGIN:VEVENT
UID:3463
DTSTAMP:20260420T130753
DTSTART:20230611T090000
DTEND:20230611T130000
SUMMARY:Caminada per recollir herbes per fer ratafia
LOCATION:
METHOD:PUBLISH
X-WR-CALNAME:st.llorensh@ajhortons.cat
X-WR-TIMEZONE:Europe/Madrid
DESCRIPTION:
URI:https://www.ajhortons.cat/actualitat/agenda/3463-caminada-per-recollir-herbes-per-fer-ratafia.html
CLASS:PUBLIC
END:VEVENT
END:VCALENDAR
