BEGIN:VCALENDAR
VERSION:2.0
CALSCALE:GREGORIAN
PRODID:-//Diputació de Barcelona//DibaCMS//EN
BEGIN:VEVENT
UID:3469
DTSTAMP:20260420T113101
DTSTART:20230824T000000
DTEND:20230824T000000
SUMMARY:Festa Major de Sant Joan Samora
LOCATION:
METHOD:PUBLISH
X-WR-CALNAME:st.llorensh@ajhortons.cat
X-WR-TIMEZONE:Europe/Madrid
DESCRIPTION:24, 25, 26 i 27 d'agost del 2023

URI:https://www.ajhortons.cat/actualitat/agenda/festa-major-de-sant-joan-samora.html
CLASS:PUBLIC
END:VEVENT
END:VCALENDAR
