BEGIN:VCALENDAR
VERSION:2.0
CALSCALE:GREGORIAN
PRODID:-//Diputació de Barcelona//DibaCMS//EN
BEGIN:VEVENT
UID:3475
DTSTAMP:20260420T114916
DTSTART:20230709T080000
DTEND:20230709T140000
SUMMARY:3a Trobada de motos clàssiques 2023
LOCATION:
METHOD:PUBLISH
X-WR-CALNAME:st.llorensh@ajhortons.cat
X-WR-TIMEZONE:Europe/Madrid
DESCRIPTION:Hi haurà exposició de vehicles, un esmorzar i es farà una ruta pel centre del poble

URI:https://www.ajhortons.cat/actualitat/agenda/3a-trobada-de-motos-classiques-2023.html
CLASS:PUBLIC
END:VEVENT
END:VCALENDAR
