BEGIN:VCALENDAR
VERSION:2.0
CALSCALE:GREGORIAN
PRODID:-//Diputació de Barcelona//DibaCMS//EN
BEGIN:VEVENT
UID:3477
DTSTAMP:20260420T093656
DTSTART:20230611T000000
DTEND:20230612T000000
SUMMARY:Fira de nous vinyataires naturals de Catalunya
LOCATION:
METHOD:PUBLISH
X-WR-CALNAME:st.llorensh@ajhortons.cat
X-WR-TIMEZONE:Europe/Madrid
DESCRIPTION:
URI:https://www.ajhortons.cat/actualitat/agenda/fira-de-nous-vinyataires-naturals-de-catalunya.html
CLASS:PUBLIC
END:VEVENT
END:VCALENDAR
