BEGIN:VCALENDAR
VERSION:2.0
CALSCALE:GREGORIAN
PRODID:-//Diputació de Barcelona//DibaCMS//EN
BEGIN:VEVENT
UID:3480
DTSTAMP:20260420T094001
DTSTART:20230617T120000
DTEND:20230617T140000
SUMMARY:Acte de constitució del nou Ajuntament
LOCATION:
METHOD:PUBLISH
X-WR-CALNAME:st.llorensh@ajhortons.cat
X-WR-TIMEZONE:Europe/Madrid
DESCRIPTION:
URI:https://www.ajhortons.cat/actualitat/agenda/3480-acte-de-constitucio-del-nou-ajuntament.html
CLASS:PUBLIC
END:VEVENT
END:VCALENDAR
