BEGIN:VCALENDAR
VERSION:2.0
CALSCALE:GREGORIAN
PRODID:-//Diputació de Barcelona//DibaCMS//EN
BEGIN:VEVENT
UID:3482
DTSTAMP:20260420T134716
DTSTART:20230708T220000
DTEND:20230708T235900
SUMMARY:Musical de final de curs de Trapelles Teatre
LOCATION:
METHOD:PUBLISH
X-WR-CALNAME:st.llorensh@ajhortons.cat
X-WR-TIMEZONE:Europe/Madrid
DESCRIPTION:
URI:https://www.ajhortons.cat/actualitat/agenda/musical-de-final-de-curs-de-trapelles-teatre.html
CLASS:PUBLIC
END:VEVENT
END:VCALENDAR
