BEGIN:VCALENDAR
VERSION:2.0
CALSCALE:GREGORIAN
PRODID:-//Diputació de Barcelona//DibaCMS//EN
BEGIN:VEVENT
UID:3484
DTSTAMP:20260420T125617
DTSTART:20230629T110000
DTEND:20230629T130000
SUMMARY:Xerrada sobre prevenció i actuació en cas d'incendi
LOCATION:
METHOD:PUBLISH
X-WR-CALNAME:st.llorensh@ajhortons.cat
X-WR-TIMEZONE:Europe/Madrid
DESCRIPTION:
URI:https://www.ajhortons.cat/actualitat/agenda/xerrada-sobre-prevencio-i-actuacio-en-cas-dincendi.html
CLASS:PUBLIC
END:VEVENT
END:VCALENDAR
