BEGIN:VCALENDAR
VERSION:2.0
CALSCALE:GREGORIAN
PRODID:-//Diputació de Barcelona//DibaCMS//EN
BEGIN:VEVENT
UID:3485
DTSTAMP:20260420T114638
DTSTART:20230707T220000
DTEND:20230707T225500
SUMMARY:D'Hortons. Poetes a la Bassa Gran 2023
LOCATION:
METHOD:PUBLISH
X-WR-CALNAME:st.llorensh@ajhortons.cat
X-WR-TIMEZONE:Europe/Madrid
DESCRIPTION:Recital de poesia

URI:https://www.ajhortons.cat/actualitat/agenda/dhortons-poetes-a-la-bassa-gran-2023.html
CLASS:PUBLIC
END:VEVENT
END:VCALENDAR
