BEGIN:VCALENDAR
VERSION:2.0
CALSCALE:GREGORIAN
PRODID:-//Diputació de Barcelona//DibaCMS//EN
BEGIN:VEVENT
UID:3488
DTSTAMP:20260420T092839
DTSTART:20230623T210000
DTEND:20230624T020000
SUMMARY:Revetlla de Sant Joan
LOCATION:
METHOD:PUBLISH
X-WR-CALNAME:st.llorensh@ajhortons.cat
X-WR-TIMEZONE:Europe/Madrid
DESCRIPTION:
URI:https://www.ajhortons.cat/actualitat/agenda/3488-revetlla-de-sant-joan.html
CLASS:PUBLIC
END:VEVENT
END:VCALENDAR
