BEGIN:VCALENDAR
VERSION:2.0
CALSCALE:GREGORIAN
PRODID:-//Diputació de Barcelona//DibaCMS//EN
BEGIN:VEVENT
UID:3506
DTSTAMP:20260420T115222
DTSTART:20230714T210000
DTEND:20230715T235900
SUMMARY:Festes d'Estiu de Can Serra
LOCATION:
METHOD:PUBLISH
X-WR-CALNAME:st.llorensh@ajhortons.cat
X-WR-TIMEZONE:Europe/Madrid
DESCRIPTION:
URI:https://www.ajhortons.cat/actualitat/agenda/festes-destiu-de-can-serra.html
CLASS:PUBLIC
END:VEVENT
END:VCALENDAR
