BEGIN:VCALENDAR
VERSION:2.0
CALSCALE:GREGORIAN
PRODID:-//Diputació de Barcelona//DibaCMS//EN
BEGIN:VEVENT
UID:3519
DTSTAMP:20260420T151707
DTSTART:20230805T223000
DTEND:20230806T000000
SUMMARY: TEATRE BENVINGUTS A  VILABELLA
LOCATION:Pista SCH 
METHOD:PUBLISH
X-WR-CALNAME:st.llorensh@ajhortons.cat
X-WR-TIMEZONE:Europe/Madrid
DESCRIPTION:Actes Festa Major 2023

URI:https://www.ajhortons.cat/actualitat/agenda/-teatre-benvinguts-a-vilabella.html
CLASS:PUBLIC
END:VEVENT
END:VCALENDAR
