BEGIN:VCALENDAR
VERSION:2.0
CALSCALE:GREGORIAN
PRODID:-//Diputació de Barcelona//DibaCMS//EN
BEGIN:VEVENT
UID:3521
DTSTAMP:20260420T183823
DTSTART:20230805T230000
DTEND:20230806T060000
SUMMARY:FESTA REAGGE HORTONS UN DUB VOL. 4
LOCATION:
METHOD:PUBLISH
X-WR-CALNAME:st.llorensh@ajhortons.cat
X-WR-TIMEZONE:Europe/Madrid
DESCRIPTION:Actes Festa Major 2023

URI:https://www.ajhortons.cat/actualitat/agenda/festa-reagge-hortons-un-dub-vol-4.html
CLASS:PUBLIC
END:VEVENT
END:VCALENDAR
