BEGIN:VCALENDAR
VERSION:2.0
CALSCALE:GREGORIAN
PRODID:-//Diputació de Barcelona//DibaCMS//EN
BEGIN:VEVENT
UID:3524
DTSTAMP:20260420T232308
DTSTART:20240804T200000
DTEND:20240804T213000
SUMMARY:Tast de vins de la SCH 
LOCATION:Major, 47 08791 Sant Llorenç d'Hortons
METHOD:PUBLISH
X-WR-CALNAME:st.llorensh@ajhortons.cat
X-WR-TIMEZONE:Europe/Madrid
DESCRIPTION:Actes Festa Major 2024

URI:https://www.ajhortons.cat/actualitat/agenda/tast-de-vins-de-la-sch-.html
CLASS:PUBLIC
END:VEVENT
END:VCALENDAR
