BEGIN:VCALENDAR
VERSION:2.0
CALSCALE:GREGORIAN
PRODID:-//Diputació de Barcelona//DibaCMS//EN
BEGIN:VEVENT
UID:3531
DTSTAMP:20260420T201757
DTSTART:20230810T120000
DTEND:20230810T130000
SUMMARY:Entremesos del Terrazel
LOCATION:Plaça de la Rectoría 08791 Sant Llorenç d'Hortons
METHOD:PUBLISH
X-WR-CALNAME:st.llorensh@ajhortons.cat
X-WR-TIMEZONE:Europe/Madrid
DESCRIPTION:Actes Festa Major 2023

URI:https://www.ajhortons.cat/actualitat/agenda/entremesos-del-terrazel.html
CLASS:PUBLIC
END:VEVENT
END:VCALENDAR
