BEGIN:VCALENDAR
VERSION:2.0
CALSCALE:GREGORIAN
PRODID:-//Diputació de Barcelona//DibaCMS//EN
BEGIN:VEVENT
UID:3532
DTSTAMP:20260421T010732
DTSTART:20240810T190000
DTEND:20240810T200000
SUMMARY:Cercavila i pregó de la Festa Major 
LOCATION:Major, 36 08791 Sant Llorenç d'Hortons
METHOD:PUBLISH
X-WR-CALNAME:st.llorensh@ajhortons.cat
X-WR-TIMEZONE:Europe/Madrid
DESCRIPTION:
URI:https://www.ajhortons.cat/actualitat/agenda/cercavila-i-prego-de-la-festa-major-.html
CLASS:PUBLIC
END:VEVENT
END:VCALENDAR
