BEGIN:VCALENDAR
VERSION:2.0
CALSCALE:GREGORIAN
PRODID:-//Diputació de Barcelona//DibaCMS//EN
BEGIN:VEVENT
UID:3533
DTSTAMP:20260420T011303
DTSTART:20220811T100000
DTEND:20220811T130000
SUMMARY:Tallers infantils
LOCATION:c/ Major 36 08791 Sant Llorenç d'Hortons
METHOD:PUBLISH
X-WR-CALNAME:st.llorensh@ajhortons.cat
X-WR-TIMEZONE:Europe/Madrid
DESCRIPTION:
Actes Festa Major 2023


URI:https://www.ajhortons.cat/actualitat/agenda/tallers-infantils.html
CLASS:PUBLIC
END:VEVENT
END:VCALENDAR
