BEGIN:VCALENDAR
VERSION:2.0
CALSCALE:GREGORIAN
PRODID:-//Diputació de Barcelona//DibaCMS//EN
BEGIN:VEVENT
UID:3534
DTSTAMP:20260420T170655
DTSTART:20230810T230000
DTEND:20230811T000000
SUMMARY:Entremesos del Terrazel de nit 
LOCATION:Major, 36 08791 Sant Llorenç d'Hortons
METHOD:PUBLISH
X-WR-CALNAME:st.llorensh@ajhortons.cat
X-WR-TIMEZONE:Europe/Madrid
DESCRIPTION:Actes Festa Major 2023

URI:https://www.ajhortons.cat/actualitat/agenda/entremesos-del-terrazel-de-nit-.html
CLASS:PUBLIC
END:VEVENT
END:VCALENDAR
