BEGIN:VCALENDAR
VERSION:2.0
CALSCALE:GREGORIAN
PRODID:-//Diputació de Barcelona//DibaCMS//EN
BEGIN:VEVENT
UID:3535
DTSTAMP:20260421T023147
DTSTART:20240810T220000
DTEND:20240810T223000
SUMMARY:Correfoc 
LOCATION:El recorregut serà el C/Major des del C/Catalunya fins a l’encreuament del C/Diputació. 
METHOD:PUBLISH
X-WR-CALNAME:st.llorensh@ajhortons.cat
X-WR-TIMEZONE:Europe/Madrid
DESCRIPTION:Actes  Festa Major 2024

URI:https://www.ajhortons.cat/actualitat/agenda/correfoc-.html
CLASS:PUBLIC
END:VEVENT
END:VCALENDAR
