BEGIN:VCALENDAR
VERSION:2.0
CALSCALE:GREGORIAN
PRODID:-//Diputació de Barcelona//DibaCMS//EN
BEGIN:VEVENT
UID:3536
DTSTAMP:20260420T114807
DTSTART:20230731T000000
DTEND:20230731T000000
SUMMARY:ESPECTACLE DEL TERRAZEL 
LOCATION:Plaça del Terrazel 
METHOD:PUBLISH
X-WR-CALNAME:st.llorensh@ajhortons.cat
X-WR-TIMEZONE:Europe/Madrid
DESCRIPTION:
URI:https://www.ajhortons.cat/actualitat/agenda/espectacle-del-terrazel-.html
CLASS:PUBLIC
END:VEVENT
END:VCALENDAR
