BEGIN:VCALENDAR
VERSION:2.0
CALSCALE:GREGORIAN
PRODID:-//Diputació de Barcelona//DibaCMS//EN
BEGIN:VEVENT
UID:3537
DTSTAMP:20260421T010553
DTSTART:20240811T010000
DTEND:20240811T030000
SUMMARY:Concert. La Fresca 
LOCATION:Plaça 1 d’Octubre 
METHOD:PUBLISH
X-WR-CALNAME:st.llorensh@ajhortons.cat
X-WR-TIMEZONE:Europe/Madrid
DESCRIPTION:St Sebastià

URI:https://www.ajhortons.cat/actualitat/agenda/concert-la-fresca-.html
CLASS:PUBLIC
END:VEVENT
END:VCALENDAR
