BEGIN:VCALENDAR
VERSION:2.0
CALSCALE:GREGORIAN
PRODID:-//Diputació de Barcelona//DibaCMS//EN
BEGIN:VEVENT
UID:3538
DTSTAMP:20260419T231727
DTSTART:20220810T035500
DTEND:20220810T050000
SUMMARY:DJ Ferry Lip 
LOCATION:Plaça 1 d’Octubre 
METHOD:PUBLISH
X-WR-CALNAME:st.llorensh@ajhortons.cat
X-WR-TIMEZONE:Europe/Madrid
DESCRIPTION:
URI:https://www.ajhortons.cat/actualitat/agenda/dj-ferry-lip-.html
CLASS:PUBLIC
END:VEVENT
END:VCALENDAR
