BEGIN:VCALENDAR
VERSION:2.0
CALSCALE:GREGORIAN
PRODID:-//Diputació de Barcelona//DibaCMS//EN
BEGIN:VEVENT
UID:3539
DTSTAMP:20260419T224839
DTSTART:20220808T183000
DTEND:20220808T193000
SUMMARY:Taller de vaixells de vela - duplicat
LOCATION:
METHOD:PUBLISH
X-WR-CALNAME:st.llorensh@ajhortons.cat
X-WR-TIMEZONE:Europe/Madrid
DESCRIPTION:
URI:https://www.ajhortons.cat/actualitat/agenda/taller-de-vaixells-de-vela-duplicat.html
CLASS:PUBLIC
END:VEVENT
END:VCALENDAR
