BEGIN:VCALENDAR
VERSION:2.0
CALSCALE:GREGORIAN
PRODID:-//Diputació de Barcelona//DibaCMS//EN
BEGIN:VEVENT
UID:3541
DTSTAMP:20260420T112906
DTSTART:20230811T183000
DTEND:20230811T194500
SUMMARY:Partits  de futbol: Nens i Dones 
LOCATION:Josep Tarradelles, s/n 08791 Sant Llorenç d'Hortons
METHOD:PUBLISH
X-WR-CALNAME:st.llorensh@ajhortons.cat
X-WR-TIMEZONE:Europe/Madrid
DESCRIPTION:
Actes Festa Major 2023


URI:https://www.ajhortons.cat/actualitat/agenda/partits-de-futbol-nens-i-dones-.html
CLASS:PUBLIC
END:VEVENT
END:VCALENDAR
