BEGIN:VCALENDAR
VERSION:2.0
CALSCALE:GREGORIAN
PRODID:-//Diputació de Barcelona//DibaCMS//EN
BEGIN:VEVENT
UID:3542
DTSTAMP:20260420T150222
DTSTART:20230811T190000
DTEND:20230811T220000
SUMMARY:Sardanes amb la Cobla Reus Jove 
LOCATION:c/ Major 36 08791 Sant Llorenç d'Hortons
METHOD:PUBLISH
X-WR-CALNAME:st.llorensh@ajhortons.cat
X-WR-TIMEZONE:Europe/Madrid
DESCRIPTION:St Sebastià

URI:https://www.ajhortons.cat/actualitat/agenda/sardanes-amb-la-cobla-reus-jove-.html
CLASS:PUBLIC
END:VEVENT
END:VCALENDAR
