BEGIN:VCALENDAR
VERSION:2.0
CALSCALE:GREGORIAN
PRODID:-//Diputació de Barcelona//DibaCMS//EN
BEGIN:VEVENT
UID:3545
DTSTAMP:20260420T112826
DTSTART:20230809T183000
DTEND:20230813T210000
SUMMARY:Exposició: Els elements del Terrazel   
LOCATION:
METHOD:PUBLISH
X-WR-CALNAME:st.llorensh@ajhortons.cat
X-WR-TIMEZONE:Europe/Madrid
DESCRIPTION:
URI:https://www.ajhortons.cat/actualitat/agenda/exposicio-els-elements-del-terrazel-.html
CLASS:PUBLIC
END:VEVENT
END:VCALENDAR
