BEGIN:VCALENDAR
VERSION:2.0
CALSCALE:GREGORIAN
PRODID:-//Diputació de Barcelona//DibaCMS//EN
BEGIN:VEVENT
UID:3548
DTSTAMP:20260420T134426
DTSTART:20230812T180000
DTEND:20230812T194500
SUMMARY:Partits  de futbol: Solters Casats
LOCATION:Josep Tarradelles, s/n 08791 Sant Llorenç d'Hortons
METHOD:PUBLISH
X-WR-CALNAME:st.llorensh@ajhortons.cat
X-WR-TIMEZONE:Europe/Madrid
DESCRIPTION:
Actes Festa Major 2023


URI:https://www.ajhortons.cat/actualitat/agenda/partits-de-futbol-solters-casats.html
CLASS:PUBLIC
END:VEVENT
END:VCALENDAR
