BEGIN:VCALENDAR
VERSION:2.0
CALSCALE:GREGORIAN
PRODID:-//Diputació de Barcelona//DibaCMS//EN
BEGIN:VEVENT
UID:3549
DTSTAMP:20260419T193311
DTSTART:20220409T220000
DTEND:20220409T220000
SUMMARY:Concert Al RicoKoco  
LOCATION:
METHOD:PUBLISH
X-WR-CALNAME:st.llorensh@ajhortons.cat
X-WR-TIMEZONE:Europe/Madrid
DESCRIPTION:
URI:https://www.ajhortons.cat/actualitat/agenda/concert-al-ricokoco-.html
CLASS:PUBLIC
END:VEVENT
END:VCALENDAR
