BEGIN:VCALENDAR
VERSION:2.0
CALSCALE:GREGORIAN
PRODID:-//Diputació de Barcelona//DibaCMS//EN
BEGIN:VEVENT
UID:3550
DTSTAMP:20260421T010928
DTSTART:20240811T060000
DTEND:20240811T090000
SUMMARY:MATINES "TUKATS DE GELIDA "
LOCATION:
METHOD:PUBLISH
X-WR-CALNAME:st.llorensh@ajhortons.cat
X-WR-TIMEZONE:Europe/Madrid
DESCRIPTION:Actes Festa Major 2023

URI:https://www.ajhortons.cat/actualitat/agenda/matines-tukats-de-gelida-.html
CLASS:PUBLIC
END:VEVENT
END:VCALENDAR
