BEGIN:VCALENDAR
VERSION:2.0
CALSCALE:GREGORIAN
PRODID:-//Diputació de Barcelona//DibaCMS//EN
BEGIN:VEVENT
UID:3551
DTSTAMP:20260420T145129
DTSTART:20230813T180000
DTEND:20230813T180000
SUMMARY:Gincana  
LOCATION:
METHOD:PUBLISH
X-WR-CALNAME:st.llorensh@ajhortons.cat
X-WR-TIMEZONE:Europe/Madrid
DESCRIPTION:Actes Festa Major 2023

URI:https://www.ajhortons.cat/actualitat/agenda/3551-gincana-.html
CLASS:PUBLIC
END:VEVENT
END:VCALENDAR
