BEGIN:VCALENDAR
VERSION:2.0
CALSCALE:GREGORIAN
PRODID:-//Diputació de Barcelona//DibaCMS//EN
BEGIN:VEVENT
UID:3552
DTSTAMP:20260420T145036
DTSTART:20230813T120000
DTEND:20230813T130000
SUMMARY:Torneig de Tenis Taula 
LOCATION:c/ Major 36 08791 Sant Llorenç d'Hortons
METHOD:PUBLISH
X-WR-CALNAME:st.llorensh@ajhortons.cat
X-WR-TIMEZONE:Europe/Madrid
DESCRIPTION:Actes Festa Major 2023

URI:https://www.ajhortons.cat/actualitat/agenda/torneig-de-tenis-taula-.html
CLASS:PUBLIC
END:VEVENT
END:VCALENDAR
