BEGIN:VCALENDAR
VERSION:2.0
CALSCALE:GREGORIAN
PRODID:-//Diputació de Barcelona//DibaCMS//EN
BEGIN:VEVENT
UID:3553
DTSTAMP:20260419T231616
DTSTART:20220813T203000
DTEND:20220813T213000
SUMMARY:Tast de vins de  Mambo
LOCATION:
METHOD:PUBLISH
X-WR-CALNAME:st.llorensh@ajhortons.cat
X-WR-TIMEZONE:Europe/Madrid
DESCRIPTION:
URI:https://www.ajhortons.cat/actualitat/agenda/tast-de-vins-de-mambo.html
CLASS:PUBLIC
END:VEVENT
END:VCALENDAR
