BEGIN:VCALENDAR
VERSION:2.0
CALSCALE:GREGORIAN
PRODID:-//Diputació de Barcelona//DibaCMS//EN
BEGIN:VEVENT
UID:3557
DTSTAMP:20260420T164003
DTSTART:20230824T210000
DTEND:20230824T223000
SUMMARY:26 MOSTRA DE LA NOSTRA CUINA D'ARA I SEMPRE 
LOCATION:Sant Joan Samora  
METHOD:PUBLISH
X-WR-CALNAME:st.llorensh@ajhortons.cat
X-WR-TIMEZONE:Europe/Madrid
DESCRIPTION:Actes Festa Major de Sant Joan Samora 2023

URI:https://www.ajhortons.cat/actualitat/agenda/26-mostra-de-la-nostra-cuina-dara-i-sempre-.html
CLASS:PUBLIC
END:VEVENT
END:VCALENDAR
