BEGIN:VCALENDAR
VERSION:2.0
CALSCALE:GREGORIAN
PRODID:-//Diputació de Barcelona//DibaCMS//EN
BEGIN:VEVENT
UID:3558
DTSTAMP:20260420T113136
DTSTART:20230824T223000
DTEND:20230824T235500
SUMMARY:CINEMA A LA FRESCA 
LOCATION:Sant Joan Samora  
METHOD:PUBLISH
X-WR-CALNAME:st.llorensh@ajhortons.cat
X-WR-TIMEZONE:Europe/Madrid
DESCRIPTION:Actes Festa Major de Sant Joan Samora 2023

URI:https://www.ajhortons.cat/actualitat/agenda/cinema-a-la-fresca-.html
CLASS:PUBLIC
END:VEVENT
END:VCALENDAR
