BEGIN:VCALENDAR
VERSION:2.0
CALSCALE:GREGORIAN
PRODID:-//Diputació de Barcelona//DibaCMS//EN
BEGIN:VEVENT
UID:3566
DTSTAMP:20260421T025644
DTSTART:20240916T000000
DTEND:20240919T000000
SUMMARY:Inscripcions i portes obertes extraescolars 
LOCATION:
METHOD:PUBLISH
X-WR-CALNAME:st.llorensh@ajhortons.cat
X-WR-TIMEZONE:Europe/Madrid
DESCRIPTION:SECCIÓ ESPORTIVA PAU CASALS

URI:https://www.ajhortons.cat/actualitat/agenda/inscripcions-i-portes-obertes-extraescolars-.html
CLASS:PUBLIC
END:VEVENT
END:VCALENDAR
