BEGIN:VCALENDAR
VERSION:2.0
CALSCALE:GREGORIAN
PRODID:-//Diputació de Barcelona//DibaCMS//EN
BEGIN:VEVENT
UID:3579
DTSTAMP:20260420T150338
DTSTART:20231115T090000
DTEND:20231115T140000
SUMMARY:Mercat setmanal   
LOCATION:Plaça Marimon Llança (Davant l'Ajuntament Carrer Major 36) 
METHOD:PUBLISH
X-WR-CALNAME:st.llorensh@ajhortons.cat
X-WR-TIMEZONE:Europe/Madrid
DESCRIPTION:Dimecres al matí

URI:https://www.ajhortons.cat/actualitat/agenda/3579-mercat-setmanal-.html
CLASS:PUBLIC
END:VEVENT
END:VCALENDAR
