BEGIN:VCALENDAR
VERSION:2.0
CALSCALE:GREGORIAN
PRODID:-//Diputació de Barcelona//DibaCMS//EN
BEGIN:VEVENT
UID:3588
DTSTAMP:20260420T163854
DTSTART:20240117T090000
DTEND:20240117T140000
SUMMARY:Mercat setmanal    
LOCATION:Plaça Marimon Llança (Davant l'Ajuntament Carrer Major 36) 
METHOD:PUBLISH
X-WR-CALNAME:st.llorensh@ajhortons.cat
X-WR-TIMEZONE:Europe/Madrid
DESCRIPTION:Dimecres al matí

URI:https://www.ajhortons.cat/actualitat/agenda/3588-mercat-setmanal-.html
CLASS:PUBLIC
END:VEVENT
END:VCALENDAR
