BEGIN:VCALENDAR
VERSION:2.0
CALSCALE:GREGORIAN
PRODID:-//Diputació de Barcelona//DibaCMS//EN
BEGIN:VEVENT
UID:3596
DTSTAMP:20260420T112918
DTSTART:20230914T100000
DTEND:20230914T130000
SUMMARY:Prova del sistema d'alertes a telèfons mòbils
LOCATION:
METHOD:PUBLISH
X-WR-CALNAME:st.llorensh@ajhortons.cat
X-WR-TIMEZONE:Europe/Madrid
DESCRIPTION:Protecció Civil de la Generalitat activarà l'alerta de prova

URI:https://www.ajhortons.cat/actualitat/agenda/prova-del-sistema-dalertes-a-telefons-mobils.html
CLASS:PUBLIC
END:VEVENT
END:VCALENDAR
