BEGIN:VCALENDAR
VERSION:2.0
CALSCALE:GREGORIAN
PRODID:-//Diputació de Barcelona//DibaCMS//EN
BEGIN:VEVENT
UID:3599
DTSTAMP:20260420T200021
DTSTART:20231126T173000
DTEND:20231126T190000
SUMMARY:Santa Cecília 
LOCATION:
METHOD:PUBLISH
X-WR-CALNAME:st.llorensh@ajhortons.cat
X-WR-TIMEZONE:Europe/Madrid
DESCRIPTION:Concert a l'església

URI:https://www.ajhortons.cat/actualitat/agenda/santa-cecilia-.html
CLASS:PUBLIC
END:VEVENT
END:VCALENDAR
