BEGIN:VCALENDAR
VERSION:2.0
CALSCALE:GREGORIAN
PRODID:-//Diputació de Barcelona//DibaCMS//EN
BEGIN:VEVENT
UID:3602
DTSTAMP:20260420T112950
DTSTART:20230918T000000
DTEND:20230919T000000
SUMMARY:Setmana de l'Esport - Portes obertes i inscripcions obertes
LOCATION:
METHOD:PUBLISH
X-WR-CALNAME:st.llorensh@ajhortons.cat
X-WR-TIMEZONE:Europe/Madrid
DESCRIPTION:
URI:https://www.ajhortons.cat/actualitat/agenda/setmana-de-lesport-portes-obertes-i-inscripcions-obertes.html
CLASS:PUBLIC
END:VEVENT
END:VCALENDAR
