BEGIN:VCALENDAR
VERSION:2.0
CALSCALE:GREGORIAN
PRODID:-//Diputació de Barcelona//DibaCMS//EN
BEGIN:VEVENT
UID:3603
DTSTAMP:20260420T181219
DTSTART:20230918T170000
DTEND:20230918T174500
SUMMARY:Portes Obertes DANSA 
LOCATION:08791 Sant Llorenç d'Hortons
METHOD:PUBLISH
X-WR-CALNAME:st.llorensh@ajhortons.cat
X-WR-TIMEZONE:Europe/Madrid
DESCRIPTION:Infants d'I3, I4 i I5 a la Sala taronja del poliesportiu

URI:https://www.ajhortons.cat/actualitat/agenda/portes-obertes-dansa-.html
CLASS:PUBLIC
END:VEVENT
END:VCALENDAR
