BEGIN:VCALENDAR
VERSION:2.0
CALSCALE:GREGORIAN
PRODID:-//Diputació de Barcelona//DibaCMS//EN
BEGIN:VEVENT
UID:3604
DTSTAMP:20260420T150355
DTSTART:20230918T174500
DTEND:20230918T183000
SUMMARY:Portes Obertes DANSA  
LOCATION:08791 Sant Llorenç d'Hortons
METHOD:PUBLISH
X-WR-CALNAME:st.llorensh@ajhortons.cat
X-WR-TIMEZONE:Europe/Madrid
DESCRIPTION:Infants Infants de Primària a la Sala taronja del poliesportiu

URI:https://www.ajhortons.cat/actualitat/agenda/3604-portes-obertes-dansa-.html
CLASS:PUBLIC
END:VEVENT
END:VCALENDAR
