BEGIN:VCALENDAR
VERSION:2.0
CALSCALE:GREGORIAN
PRODID:-//Diputació de Barcelona//DibaCMS//EN
BEGIN:VEVENT
UID:3605
DTSTAMP:20260420T145256
DTSTART:20230919T164500
DTEND:20230919T174500
SUMMARY:Portes Obertes INICIACIÓ ESPORTIVA
LOCATION:08791 Sant Llorenç d'Hortons
METHOD:PUBLISH
X-WR-CALNAME:st.llorensh@ajhortons.cat
X-WR-TIMEZONE:Europe/Madrid
DESCRIPTION:Infants de 3r a 6è al Pati de Primària de l'escola (entrada pel C/Major)

URI:https://www.ajhortons.cat/actualitat/agenda/portes-obertes-iniciacio-esportiva.html
CLASS:PUBLIC
END:VEVENT
END:VCALENDAR
