BEGIN:VCALENDAR
VERSION:2.0
CALSCALE:GREGORIAN
PRODID:-//Diputació de Barcelona//DibaCMS//EN
BEGIN:VEVENT
UID:3606
DTSTAMP:20260420T162018
DTSTART:20230920T164500
DTEND:20230920T174500
SUMMARY:Portes Obertes MULTIESPORTS
LOCATION:08791 Sant Llorenç d'Hortons
METHOD:PUBLISH
X-WR-CALNAME:st.llorensh@ajhortons.cat
X-WR-TIMEZONE:Europe/Madrid
DESCRIPTION:Infants de d'I5, 1r i 2n Poliesportiu (entrada per la porta principal)

URI:https://www.ajhortons.cat/actualitat/agenda/portes-obertes-multiesports.html
CLASS:PUBLIC
END:VEVENT
END:VCALENDAR
