BEGIN:VCALENDAR
VERSION:2.0
CALSCALE:GREGORIAN
PRODID:-//Diputació de Barcelona//DibaCMS//EN
BEGIN:VEVENT
UID:3613
DTSTAMP:20260420T170023
DTSTART:20231112T010000
DTEND:20231112T225500
SUMMARY:Dia internacional de l'Enoturisme
LOCATION:
METHOD:PUBLISH
X-WR-CALNAME:st.llorensh@ajhortons.cat
X-WR-TIMEZONE:Europe/Madrid
DESCRIPTION:Descobreix les bodegues del nostre municipi i enamora't

URI:https://www.ajhortons.cat/actualitat/agenda/dia-internacional-de-lenoturisme.html
CLASS:PUBLIC
END:VEVENT
END:VCALENDAR
